Package: SLqPCR Version: 1.72.0 Command: rm -rf SLqPCR.buildbin-libdir && mkdir SLqPCR.buildbin-libdir && /Users/biocbuild/BBS/utils/build-universal.sh SLqPCR_1.72.0.tar.gz /Library/Frameworks/R.framework/Resources/bin/R SLqPCR.buildbin-libdir StartedAt: 2025-04-02 16:25:01 -0400 (Wed, 02 Apr 2025) EndedAt: 2025-04-02 16:25:04 -0400 (Wed, 02 Apr 2025) EllapsedTime: 3.3 seconds RetCode: 0 Status: OK PackageFile: SLqPCR_1.72.0.tgz PackageFileSize: 236.5 KiB