Package: SIMD Version: 1.24.0 Command: /Library/Frameworks/R.framework/Resources/bin/R CMD build --keep-empty-dirs --no-resave-data SIMD StartedAt: 2025-03-31 22:05:05 -0400 (Mon, 31 Mar 2025) EndedAt: 2025-03-31 22:05:23 -0400 (Mon, 31 Mar 2025) EllapsedTime: 17.6 seconds RetCode: 0 Status: OK PackageFile: SIMD_1.24.0.tar.gz PackageFileSize: 332.9 KiB