Package: SIMD Version: 1.24.0 Command: /Library/Frameworks/R.framework/Resources/bin/R CMD check --install=check:SIMD.install-out.txt --library=/Library/Frameworks/R.framework/Resources/library --no-vignettes --timings SIMD_1.24.0.tar.gz StartedAt: 2025-04-02 08:55:54 -0400 (Wed, 02 Apr 2025) EndedAt: 2025-04-02 08:56:25 -0400 (Wed, 02 Apr 2025) EllapsedTime: 30.5 seconds RetCode: 0 Status: OK CheckDir: SIMD.Rcheck Warnings: 0