Package: SIMAT Version: 1.38.0 Command: /Library/Frameworks/R.framework/Resources/bin/R CMD check --install=check:SIMAT.install-out.txt --library=/Library/Frameworks/R.framework/Resources/library --no-vignettes --timings SIMAT_1.38.0.tar.gz StartedAt: 2025-04-02 08:55:28 -0400 (Wed, 02 Apr 2025) EndedAt: 2025-04-02 08:56:43 -0400 (Wed, 02 Apr 2025) EllapsedTime: 74.6 seconds RetCode: 0 Status: OK CheckDir: SIMAT.Rcheck Warnings: 0