Package: SIAMCAT Version: 2.10.0 Command: /home/biocbuild/R/R/bin/R CMD INSTALL SIAMCAT StartedAt: 2025-03-31 20:58:17 -0000 (Mon, 31 Mar 2025) EndedAt: 2025-03-31 20:58:55 -0000 (Mon, 31 Mar 2025) EllapsedTime: 38.2 seconds RetCode: 0 Status: OK