Package: SIAMCAT Version: 2.10.0 Command: /home/biocbuild/bbs-3.20-bioc/R/bin/R CMD INSTALL SIAMCAT StartedAt: 2025-03-31 15:48:43 -0400 (Mon, 31 Mar 2025) EndedAt: 2025-03-31 15:49:10 -0400 (Mon, 31 Mar 2025) EllapsedTime: 27.0 seconds RetCode: 0 Status: OK