Package: SIAMCAT Version: 2.10.0 Command: /Library/Frameworks/R.framework/Resources/bin/R CMD build --keep-empty-dirs --no-resave-data SIAMCAT StartedAt: 2025-03-31 22:02:56 -0400 (Mon, 31 Mar 2025) EndedAt: 2025-03-31 22:09:50 -0400 (Mon, 31 Mar 2025) EllapsedTime: 413.2 seconds RetCode: 0 Status: OK PackageFile: SIAMCAT_2.10.0.tar.gz PackageFileSize: 18.86 MiB