Package: SGSeq Version: 1.40.0 Command: /home/biocbuild/R/R/bin/R CMD INSTALL SGSeq StartedAt: 2025-03-31 20:30:46 -0000 (Mon, 31 Mar 2025) EndedAt: 2025-03-31 20:31:37 -0000 (Mon, 31 Mar 2025) EllapsedTime: 51.0 seconds RetCode: 0 Status: OK