Package: SGSeq Version: 1.40.0 Command: /home/biocbuild/R/R/bin/R CMD build --keep-empty-dirs --no-resave-data SGSeq StartedAt: 2025-04-01 02:41:22 -0000 (Tue, 01 Apr 2025) EndedAt: 2025-04-01 02:45:22 -0000 (Tue, 01 Apr 2025) EllapsedTime: 239.2 seconds RetCode: 0 Status: OK PackageFile: SGSeq_1.40.0.tar.gz PackageFileSize: 1.673 MiB