Package: SGSeq Version: 1.40.0 Command: F:\biocbuild\bbs-3.20-bioc\R\bin\R.exe CMD INSTALL SGSeq StartedAt: 2025-03-31 16:04:18 -0400 (Mon, 31 Mar 2025) EndedAt: 2025-03-31 16:05:54 -0400 (Mon, 31 Mar 2025) EllapsedTime: 96.6 seconds RetCode: 0 Status: OK