Package: SGSeq Version: 1.40.0 Command: /Library/Frameworks/R.framework/Resources/bin/R CMD build --keep-empty-dirs --no-resave-data SGSeq StartedAt: 2025-04-01 07:44:07 -0400 (Tue, 01 Apr 2025) EndedAt: 2025-04-01 07:47:23 -0400 (Tue, 01 Apr 2025) EllapsedTime: 195.1 seconds RetCode: 0 Status: OK PackageFile: SGSeq_1.40.0.tar.gz PackageFileSize: 1.747 MiB