Package: SGSeq Version: 1.40.0 Command: rm -rf SGSeq.buildbin-libdir && mkdir SGSeq.buildbin-libdir && /Users/biocbuild/BBS/utils/build-universal.sh SGSeq_1.40.0.tar.gz /Library/Frameworks/R.framework/Resources/bin/R SGSeq.buildbin-libdir StartedAt: 2025-04-02 16:20:11 -0400 (Wed, 02 Apr 2025) EndedAt: 2025-04-02 16:21:04 -0400 (Wed, 02 Apr 2025) EllapsedTime: 52.3 seconds RetCode: 0 Status: OK PackageFile: SGSeq_1.40.0.tgz PackageFileSize: 1.781 MiB