Package: SGCP Version: 1.6.0 Command: /home/biocbuild/R/R/bin/R CMD build --keep-empty-dirs --no-resave-data SGCP StartedAt: 2025-04-01 02:41:18 -0000 (Tue, 01 Apr 2025) EndedAt: 2025-04-01 02:45:15 -0000 (Tue, 01 Apr 2025) EllapsedTime: 237.2 seconds RetCode: 0 Status: OK PackageFile: SGCP_1.6.0.tar.gz PackageFileSize: 1.712 MiB