Package: SGCP Version: 1.6.0 Command: /home/biocbuild/bbs-3.20-bioc/R/bin/R CMD check --install=check:SGCP.install-out.txt --library=/home/biocbuild/bbs-3.20-bioc/R/site-library --timings SGCP_1.6.0.tar.gz StartedAt: 2025-04-01 02:13:10 -0400 (Tue, 01 Apr 2025) EndedAt: 2025-04-01 02:18:39 -0400 (Tue, 01 Apr 2025) EllapsedTime: 329.4 seconds RetCode: 0 Status: OK CheckDir: SGCP.Rcheck Warnings: 0