Package: SGCP Version: 1.6.0 Command: /Library/Frameworks/R.framework/Resources/bin/R CMD build --keep-empty-dirs --no-resave-data SGCP StartedAt: 2025-04-01 07:43:35 -0400 (Tue, 01 Apr 2025) EndedAt: 2025-04-01 07:45:49 -0400 (Tue, 01 Apr 2025) EllapsedTime: 133.3 seconds RetCode: 0 Status: OK PackageFile: SGCP_1.6.0.tar.gz PackageFileSize: 2.689 MiB