Package: SELEX Version: 1.38.0 Command: /Library/Frameworks/R.framework/Resources/bin/R CMD check --install=check:SELEX.install-out.txt --library=/Library/Frameworks/R.framework/Resources/library --no-vignettes --timings SELEX_1.38.0.tar.gz StartedAt: 2025-04-01 09:00:14 -0400 (Tue, 01 Apr 2025) EndedAt: 2025-04-01 09:03:51 -0400 (Tue, 01 Apr 2025) EllapsedTime: 216.8 seconds RetCode: 0 Status: OK CheckDir: SELEX.Rcheck Warnings: 0