Package: SELEX Version: 1.38.0 Command: rm -rf SELEX.buildbin-libdir && mkdir SELEX.buildbin-libdir && /Users/biocbuild/BBS/utils/build-universal.sh SELEX_1.38.0.tar.gz /Library/Frameworks/R.framework/Resources/bin/R SELEX.buildbin-libdir StartedAt: 2025-04-02 16:18:30 -0400 (Wed, 02 Apr 2025) EndedAt: 2025-04-02 16:18:45 -0400 (Wed, 02 Apr 2025) EllapsedTime: 15.6 seconds RetCode: 0 Status: OK PackageFile: SELEX_1.38.0.tgz PackageFileSize: 2.865 MiB