Package: SDAMS Version: 1.26.0 Command: F:\biocbuild\bbs-3.20-bioc\R\bin\R.exe CMD check --no-multiarch --install=check:SDAMS.install-out.txt --library=F:\biocbuild\bbs-3.20-bioc\R\library --no-vignettes --timings SDAMS_1.26.0.tar.gz StartedAt: 2025-04-01 05:51:09 -0400 (Tue, 01 Apr 2025) EndedAt: 2025-04-01 05:55:31 -0400 (Tue, 01 Apr 2025) EllapsedTime: 261.8 seconds RetCode: 0 Status: OK CheckDir: SDAMS.Rcheck Warnings: 0