Package: SDAMS Version: 1.26.0 Command: /Library/Frameworks/R.framework/Resources/bin/R CMD build --keep-empty-dirs --no-resave-data SDAMS StartedAt: 2025-03-31 21:56:06 -0400 (Mon, 31 Mar 2025) EndedAt: 2025-03-31 21:58:03 -0400 (Mon, 31 Mar 2025) EllapsedTime: 117.0 seconds RetCode: 0 Status: OK PackageFile: SDAMS_1.26.0.tar.gz PackageFileSize: 1.28 MiB