Package: SCOPE Version: 1.18.0 Command: chmod a+r SCOPE -R && F:\biocbuild\bbs-3.20-bioc\R\bin\R.exe CMD build --keep-empty-dirs --no-resave-data SCOPE StartedAt: 2025-03-31 21:46:10 -0400 (Mon, 31 Mar 2025) EndedAt: 2025-03-31 21:59:59 -0400 (Mon, 31 Mar 2025) EllapsedTime: 828.9 seconds RetCode: 0 Status: OK PackageFile: SCOPE_1.18.0.tar.gz PackageFileSize: 391.7 KiB