Package: SCBN Version: 1.24.0 Command: F:\biocbuild\bbs-3.20-bioc\R\bin\R.exe CMD INSTALL SCBN StartedAt: 2025-03-31 15:21:14 -0400 (Mon, 31 Mar 2025) EndedAt: 2025-03-31 15:21:22 -0400 (Mon, 31 Mar 2025) EllapsedTime: 7.6 seconds RetCode: 0 Status: OK