Package: SCBN Version: 1.24.0 Command: /Library/Frameworks/R.framework/Resources/bin/R CMD INSTALL SCBN StartedAt: 2025-03-31 15:03:57 -0400 (Mon, 31 Mar 2025) EndedAt: 2025-03-31 15:04:14 -0400 (Mon, 31 Mar 2025) EllapsedTime: 16.8 seconds RetCode: 0 Status: OK