Package: SCBN Version: 1.24.0 Command: /Library/Frameworks/R.framework/Resources/bin/R CMD check --install=check:SCBN.install-out.txt --library=/Library/Frameworks/R.framework/Resources/library --no-vignettes --timings SCBN_1.24.0.tar.gz StartedAt: 2025-04-01 08:37:08 -0400 (Tue, 01 Apr 2025) EndedAt: 2025-04-01 08:41:50 -0400 (Tue, 01 Apr 2025) EllapsedTime: 281.5 seconds RetCode: 0 Status: OK CheckDir: SCBN.Rcheck Warnings: 0