Package: SCArray Version: 1.14.0 Command: /home/biocbuild/bbs-3.20-bioc/R/bin/R CMD check --install=check:SCArray.install-out.txt --library=/home/biocbuild/bbs-3.20-bioc/R/site-library --timings SCArray_1.14.0.tar.gz StartedAt: 2025-04-01 01:51:04 -0400 (Tue, 01 Apr 2025) EndedAt: 2025-04-01 01:55:02 -0400 (Tue, 01 Apr 2025) EllapsedTime: 238.2 seconds RetCode: 0 Status: OK CheckDir: SCArray.Rcheck Warnings: 0