Package: SCAN.UPC Version: 2.48.0 Command: /home/biocbuild/R/R/bin/R CMD INSTALL SCAN.UPC StartedAt: 2025-03-31 20:54:18 -0000 (Mon, 31 Mar 2025) EndedAt: 2025-03-31 20:55:00 -0000 (Mon, 31 Mar 2025) EllapsedTime: 42.1 seconds RetCode: 0 Status: OK