Package: SCAN.UPC Version: 2.48.0 Command: F:\biocbuild\bbs-3.20-bioc\R\bin\R.exe CMD INSTALL SCAN.UPC StartedAt: 2025-03-31 16:36:19 -0400 (Mon, 31 Mar 2025) EndedAt: 2025-03-31 16:37:03 -0400 (Mon, 31 Mar 2025) EllapsedTime: 43.7 seconds RetCode: 0 Status: OK