Package: SCAN.UPC Version: 2.48.0 Command: /Library/Frameworks/R.framework/Resources/bin/R CMD INSTALL SCAN.UPC StartedAt: 2025-03-31 17:13:41 -0400 (Mon, 31 Mar 2025) EndedAt: 2025-03-31 17:13:43 -0400 (Mon, 31 Mar 2025) EllapsedTime: 1.4 seconds RetCode: 1 Status: ERROR