Package: SC3 Version: 1.34.0 Command: chmod a+r SC3 -R && F:\biocbuild\bbs-3.20-bioc\R\bin\R.exe CMD build --keep-empty-dirs --no-resave-data SC3 StartedAt: 2025-03-31 21:39:07 -0400 (Mon, 31 Mar 2025) EndedAt: 2025-03-31 21:48:14 -0400 (Mon, 31 Mar 2025) EllapsedTime: 546.6 seconds RetCode: 0 Status: OK PackageFile: SC3_1.34.0.tar.gz PackageFileSize: 2.182 MiB