Package: SC3 Version: 1.34.0 Command: rm -rf SC3.buildbin-libdir && mkdir SC3.buildbin-libdir && /Users/biocbuild/BBS/utils/build-universal.sh SC3_1.34.0.tar.gz /Library/Frameworks/R.framework/Resources/bin/R SC3.buildbin-libdir StartedAt: 2025-04-01 12:40:51 -0400 (Tue, 01 Apr 2025) EndedAt: 2025-04-01 12:42:27 -0400 (Tue, 01 Apr 2025) EllapsedTime: 95.9 seconds RetCode: 0 Status: OK PackageFile: SC3_1.34.0.tgz PackageFileSize: 4.62 MiB