Package: SBGNview Version: 1.20.0 Command: rm -rf SBGNview.buildbin-libdir && mkdir SBGNview.buildbin-libdir && F:\biocbuild\bbs-3.20-bioc\R\bin\R.exe CMD INSTALL --build --library=SBGNview.buildbin-libdir SBGNview_1.20.0.tar.gz StartedAt: 2025-04-01 09:07:56 -0400 (Tue, 01 Apr 2025) EndedAt: 2025-04-01 09:09:14 -0400 (Tue, 01 Apr 2025) EllapsedTime: 78.1 seconds RetCode: 0 Status: OK PackageFile: SBGNview_1.20.0.zip PackageFileSize: 2.086 MiB