Package: SBGNview Version: 1.20.0 Command: /Library/Frameworks/R.framework/Resources/bin/R CMD check --install=check:SBGNview.install-out.txt --library=/Library/Frameworks/R.framework/Resources/library --no-vignettes --timings SBGNview_1.20.0.tar.gz StartedAt: 2025-04-01 08:32:14 -0400 (Tue, 01 Apr 2025) EndedAt: 2025-04-01 08:41:07 -0400 (Tue, 01 Apr 2025) EllapsedTime: 533.2 seconds RetCode: 0 Status: OK CheckDir: SBGNview.Rcheck Warnings: 0