Package: SBGNview Version: 1.20.0 Command: /Library/Frameworks/R.framework/Resources/bin/R CMD build --keep-empty-dirs --no-resave-data SBGNview StartedAt: 2025-03-31 21:39:22 -0400 (Mon, 31 Mar 2025) EndedAt: 2025-03-31 21:43:37 -0400 (Mon, 31 Mar 2025) EllapsedTime: 255.1 seconds RetCode: 0 Status: OK PackageFile: SBGNview_1.20.0.tar.gz PackageFileSize: 1.676 MiB