Package: SBGNview Version: 1.20.0 Command: /Library/Frameworks/R.framework/Resources/bin/R CMD INSTALL SBGNview StartedAt: 2025-03-31 17:53:28 -0400 (Mon, 31 Mar 2025) EndedAt: 2025-03-31 17:54:10 -0400 (Mon, 31 Mar 2025) EllapsedTime: 41.9 seconds RetCode: 0 Status: OK