Package: SARC Version: 1.4.0 Command: /home/biocbuild/R/R/bin/R CMD INSTALL SARC StartedAt: 2025-03-31 20:57:44 -0000 (Mon, 31 Mar 2025) EndedAt: 2025-03-31 20:58:35 -0000 (Mon, 31 Mar 2025) EllapsedTime: 50.6 seconds RetCode: 0 Status: OK