Package: SARC Version: 1.4.0 Command: F:\biocbuild\bbs-3.20-bioc\R\bin\R.exe CMD INSTALL SARC StartedAt: 2025-03-31 16:44:21 -0400 (Mon, 31 Mar 2025) EndedAt: 2025-03-31 16:45:12 -0400 (Mon, 31 Mar 2025) EllapsedTime: 51.1 seconds RetCode: 0 Status: OK