Package: SARC Version: 1.4.0 Command: /Library/Frameworks/R.framework/Resources/bin/R CMD INSTALL SARC StartedAt: 2025-03-31 17:29:31 -0400 (Mon, 31 Mar 2025) EndedAt: 2025-03-31 17:30:17 -0400 (Mon, 31 Mar 2025) EllapsedTime: 45.9 seconds RetCode: 0 Status: OK