Package: SAIGEgds Version: 2.6.0 Command: F:\biocbuild\bbs-3.20-bioc\R\bin\R.exe CMD INSTALL SAIGEgds StartedAt: 2025-03-31 16:50:33 -0400 (Mon, 31 Mar 2025) EndedAt: 2025-03-31 16:53:22 -0400 (Mon, 31 Mar 2025) EllapsedTime: 169.2 seconds RetCode: 0 Status: OK