Package: S4Vectors Version: 0.44.0 Command: /home/biocbuild/R/R/bin/R CMD build --keep-empty-dirs --no-resave-data S4Vectors StartedAt: 2025-04-01 02:17:52 -0000 (Tue, 01 Apr 2025) EndedAt: 2025-04-01 02:19:02 -0000 (Tue, 01 Apr 2025) EllapsedTime: 70.1 seconds RetCode: 0 Status: OK PackageFile: S4Vectors_0.44.0.tar.gz PackageFileSize: 1.04 MiB