Package: Rtreemix Version: 1.68.0 Command: /home/biocbuild/bbs-3.20-bioc/R/bin/R CMD build --keep-empty-dirs --no-resave-data --md5 Rtreemix StartedAt: 2025-03-31 18:53:57 -0400 (Mon, 31 Mar 2025) EndedAt: 2025-03-31 18:54:52 -0400 (Mon, 31 Mar 2025) EllapsedTime: 55.0 seconds RetCode: 0 Status: OK PackageFile: Rtreemix_1.68.0.tar.gz PackageFileSize: 885.6 KiB