Package: Rtreemix Version: 1.68.0 Command: /Library/Frameworks/R.framework/Resources/bin/R CMD build --keep-empty-dirs --no-resave-data Rtreemix StartedAt: 2025-04-01 06:40:31 -0400 (Tue, 01 Apr 2025) EndedAt: 2025-04-01 06:41:35 -0400 (Tue, 01 Apr 2025) EllapsedTime: 63.6 seconds RetCode: 0 Status: OK PackageFile: Rtreemix_1.68.0.tar.gz PackageFileSize: 882.9 KiB