Package: Rtpca Version: 1.16.0 Command: rm -rf Rtpca.buildbin-libdir && mkdir Rtpca.buildbin-libdir && F:\biocbuild\bbs-3.20-bioc\R\bin\R.exe CMD INSTALL --build --library=Rtpca.buildbin-libdir Rtpca_1.16.0.tar.gz StartedAt: 2025-04-01 09:06:27 -0400 (Tue, 01 Apr 2025) EndedAt: 2025-04-01 09:07:12 -0400 (Tue, 01 Apr 2025) EllapsedTime: 44.4 seconds RetCode: 0 Status: OK PackageFile: Rtpca_1.16.0.zip PackageFileSize: 2.275 MiB