Package: Rtpca Version: 1.16.0 Command: /Library/Frameworks/R.framework/Resources/bin/R CMD INSTALL Rtpca StartedAt: 2025-03-31 15:31:18 -0400 (Mon, 31 Mar 2025) EndedAt: 2025-03-31 15:31:28 -0400 (Mon, 31 Mar 2025) EllapsedTime: 9.7 seconds RetCode: 0 Status: OK