Package: Rtpca Version: 1.16.0 Command: /Library/Frameworks/R.framework/Resources/bin/R CMD build --keep-empty-dirs --no-resave-data Rtpca StartedAt: 2025-04-01 06:40:07 -0400 (Tue, 01 Apr 2025) EndedAt: 2025-04-01 06:40:36 -0400 (Tue, 01 Apr 2025) EllapsedTime: 29.4 seconds RetCode: 0 Status: OK PackageFile: Rtpca_1.16.0.tar.gz PackageFileSize: 2.12 MiB