Package: Rsubread Version: 2.20.0 Command: chmod a+r Rsubread -R && F:\biocbuild\bbs-3.20-bioc\R\bin\R.exe CMD build --keep-empty-dirs --no-resave-data Rsubread StartedAt: 2025-03-31 21:35:04 -0400 (Mon, 31 Mar 2025) EndedAt: 2025-03-31 21:38:15 -0400 (Mon, 31 Mar 2025) EllapsedTime: 190.5 seconds RetCode: 0 Status: OK PackageFile: Rsubread_2.20.0.tar.gz PackageFileSize: 12.81 MiB