Package: Rsubread Version: 2.20.0 Command: /home/biocbuild/bbs-3.20-bioc/R/bin/R CMD check --install=check:Rsubread.install-out.txt --library=/home/biocbuild/bbs-3.20-bioc/R/site-library --timings Rsubread_2.20.0.tar.gz StartedAt: 2025-04-01 01:44:39 -0400 (Tue, 01 Apr 2025) EndedAt: 2025-04-01 01:55:12 -0400 (Tue, 01 Apr 2025) EllapsedTime: 632.8 seconds RetCode: 0 Status: OK CheckDir: Rsubread.Rcheck Warnings: 0