Package: Rnits Version: 1.40.0 Command: /home/biocbuild/R/R/bin/R CMD INSTALL Rnits StartedAt: 2025-03-31 20:24:36 -0000 (Mon, 31 Mar 2025) EndedAt: 2025-03-31 20:24:46 -0000 (Mon, 31 Mar 2025) EllapsedTime: 10.7 seconds RetCode: 0 Status: OK