Package: Rnits Version: 1.40.0 Command: /home/biocbuild/R/R/bin/R CMD build --keep-empty-dirs --no-resave-data Rnits StartedAt: 2025-04-01 02:11:28 -0000 (Tue, 01 Apr 2025) EndedAt: 2025-04-01 02:11:51 -0000 (Tue, 01 Apr 2025) EllapsedTime: 23.0 seconds RetCode: 1 Status: ERROR PackageFile: None PackageFileSize: NA