Package: Rnits Version: 1.40.0 Command: F:\biocbuild\bbs-3.20-bioc\R\bin\R.exe CMD INSTALL Rnits StartedAt: 2025-03-31 15:35:48 -0400 (Mon, 31 Mar 2025) EndedAt: 2025-03-31 15:36:13 -0400 (Mon, 31 Mar 2025) EllapsedTime: 25.4 seconds RetCode: 0 Status: OK