Package: RnaSeqSampleSize Version: 2.16.0 Command: /home/biocbuild/R/R/bin/R CMD check --install=check:RnaSeqSampleSize.install-out.txt --library=/home/biocbuild/R/R/site-library --no-vignettes --timings RnaSeqSampleSize_2.16.0.tar.gz StartedAt: 2025-04-01 10:07:31 -0000 (Tue, 01 Apr 2025) EndedAt: 2025-04-01 10:14:55 -0000 (Tue, 01 Apr 2025) EllapsedTime: 443.7 seconds RetCode: 0 Status: OK CheckDir: RnaSeqSampleSize.Rcheck Warnings: 0