Package: RnaSeqSampleSize Version: 2.16.0 Command: /home/biocbuild/bbs-3.20-bioc/R/bin/R CMD build --keep-empty-dirs --no-resave-data --md5 RnaSeqSampleSize StartedAt: 2025-03-31 18:51:01 -0400 (Mon, 31 Mar 2025) EndedAt: 2025-03-31 18:52:42 -0400 (Mon, 31 Mar 2025) EllapsedTime: 101.1 seconds RetCode: 0 Status: OK PackageFile: RnaSeqSampleSize_2.16.0.tar.gz PackageFileSize: 236.1 KiB